BEGIN:VCALENDAR
VERSION:2.0
PRODID:spatie/icalendar-generator
DESCRIPTION:Veranstaltungen von Whisky Freunde Pfalz e.V.
X-WR-CALDESC:Veranstaltungen von Whisky Freunde Pfalz e.V.
REFRESH-INTERVAL;VALUE=DURATION:PT1440M
X-PUBLISHED-TTL:PT1440M
BEGIN:VTIMEZONE
TZID:Europe/Berlin
BEGIN:STANDARD
DTSTART:20221030T030000Z
TZOFFSETFROM:+0200
TZOFFSETTO:+0100
END:STANDARD
BEGIN:DAYLIGHT
DTSTART:20230326T020000Z
TZOFFSETFROM:+0100
TZOFFSETTO:+0200
END:DAYLIGHT
END:VTIMEZONE
BEGIN:VTIMEZONE
TZID:UTC
BEGIN:STANDARD
DTSTART:20250723T173913Z
TZOFFSETFROM:+0000
TZOFFSETTO:+0000
END:STANDARD
END:VTIMEZONE
BEGIN:VEVENT
UID:15-14
DTSTAMP:20260419T173913Z
SUMMARY:Game of Thrones - Whiskytasting is Coming
LOCATION:Whisky Freunde Pfalz &amp;amp\; MGV 1856 Böhl Schulgäßchen 3  Böhl
 -Iggelheim  67459
ORGANIZER;CN=admin:MAILTO:admin@whiskyfreundepfalz.de
DTSTART;TZID=Europe/Berlin:20230225T190000
DTEND;TZID=Europe/Berlin:20230225T220000
X-ALT-DESC;FMTTYPE=TEXT/HTML:&amp;nbsp\; Am 25. Februar 2023 laden wir zum Game
  of Thrones (GOT) Whiskytasting ein. Einlass ist um 18:30 Uhr Beginn ist 
 um 19 Uhr Es stehen drei Ticket-Optionen zur Auswahl. Option 1: Tasting f
 ür Mitglieder der Whisky Freunde Pfalz (WFP) Option 2: Tasting für Gäst
 e Option 3: Fahrer bzw. Begleitpersonen die am Tasting nicht teilnehmen Be
 schreibung&amp;hellip\;
CATEGORIES:General
URL;VALUE=URI:https://tickets.whiskyfreundepfalz.de/mc-events/game-of-thron
 es-whiskytasting-is-coming/
METHOD:PUBLISH
END:VEVENT
END:VCALENDAR