BEGIN:VCALENDAR
VERSION:2.0
PRODID:spatie/icalendar-generator
DESCRIPTION:Veranstaltungen von Whisky Freunde Pfalz e.V.
X-WR-CALDESC:Veranstaltungen von Whisky Freunde Pfalz e.V.
REFRESH-INTERVAL;VALUE=DURATION:PT1440M
X-PUBLISHED-TTL:PT1440M
BEGIN:VTIMEZONE
TZID:Europe/Berlin
BEGIN:STANDARD
DTSTART:20221030T030000Z
TZOFFSETFROM:+0200
TZOFFSETTO:+0100
END:STANDARD
BEGIN:DAYLIGHT
DTSTART:20230326T020000Z
TZOFFSETFROM:+0100
TZOFFSETTO:+0200
END:DAYLIGHT
END:VTIMEZONE
BEGIN:VTIMEZONE
TZID:UTC
BEGIN:STANDARD
DTSTART:20250723T162516Z
TZOFFSETFROM:+0000
TZOFFSETTO:+0000
END:STANDARD
END:VTIMEZONE
BEGIN:VEVENT
UID:13-12
DTSTAMP:20260419T162516Z
SUMMARY:Burns Night WFP 2023
LOCATION:Whisky Freunde Pfalz &amp;amp\; MGV 1856 Böhl Schulgäßchen 3  Böhl
 -Iggelheim  67459
ORGANIZER;CN=admin:MAILTO:admin@whiskyfreundepfalz.de
DTSTART;TZID=Europe/Berlin:20230128T180000
DTEND;TZID=Europe/Berlin:20230128T230000
X-ALT-DESC;FMTTYPE=TEXT/HTML:Einlass: 18 Uhr mit Welcome Drink Beginn Burn
 s Supper: 19 Uhr Beginn Live-Musik: 21 Uhr Der Ticketpreis beinhaltet da
 s Burns Supper Menü inkl. Welcome Drink für 34 EUR\, sowie den Eintritts
 preis für das im Anschluss stattfindende Live-Konzert für 5 EUR. Es steh
 en drei Ticket-Optionen zur Auswahl. Option 1: Haggis Menü Cock-a-Leekie
  Soup (Hühnersuppe) Haggis (housemade)\, Neeps and Tatties mit&amp;hellip\;
CATEGORIES:General
URL;VALUE=URI:https://tickets.whiskyfreundepfalz.de/mc-events/burns-night-w
 fp-2023/
METHOD:PUBLISH
END:VEVENT
END:VCALENDAR